BEGIN:VCALENDAR
VERSION:2.0
PRODID:-//Erna-de-Vries-Schule / EDVS Lathen - ECPv5.1.6//NONSGML v1.0//EN
CALSCALE:GREGORIAN
METHOD:PUBLISH
X-WR-CALNAME:Erna-de-Vries-Schule / EDVS Lathen
X-ORIGINAL-URL:https://edvs-lathen.de
X-WR-CALDESC:Veranstaltungen für Erna-de-Vries-Schule / EDVS Lathen
BEGIN:VTIMEZONE
TZID:UTC
BEGIN:STANDARD
TZOFFSETFROM:+0000
TZOFFSETTO:+0000
TZNAME:UTC
DTSTART:20200101T000000
END:STANDARD
END:VTIMEZONE
BEGIN:VEVENT
DTSTART;TZID=UTC:20200906T035210
DTEND;TZID=UTC:20200806T170000
DTSTAMP:20260421T100908
CREATED:20190807T121552Z
LAST-MODIFIED:20190807T121552Z
UID:212-1599364330-1596733200@edvs-lathen.de
SUMMARY:Our Curriculum
DESCRIPTION:Planned\, prepared and run by the SOIS student council\, the School Festival is our big event of the spring trimester. Each homeroom class and a number of cultural clubs contribute to the day with projects such as food stalls\, games\, theatrical and musical performances and exhibitions. Profits from the event are donated to good causes. In keeping with our mission statement\, the festival encourages students to become informed\, caring\, creative and to contribute to the global community.
URL:https://edvs-lathen.de/event/our-curriculum/
LOCATION:Erna de Vries Tag 2021
ATTACH;FMTTYPE=image/jpeg:https://edvs-lathen.de/wp-content/uploads/2017/02/post-01.jpg
END:VEVENT
END:VCALENDAR