BEGIN:VCALENDAR
VERSION:2.0
PRODID:-//Erna-de-Vries-Schule / EDVS Lathen - ECPv5.1.6//NONSGML v1.0//EN
CALSCALE:GREGORIAN
METHOD:PUBLISH
X-WR-CALNAME:Erna-de-Vries-Schule / EDVS Lathen
X-ORIGINAL-URL:https://edvs-lathen.de
X-WR-CALDESC:Veranstaltungen für Erna-de-Vries-Schule / EDVS Lathen
BEGIN:VTIMEZONE
TZID:UTC
BEGIN:STANDARD
TZOFFSETFROM:+0000
TZOFFSETTO:+0000
TZNAME:UTC
DTSTART:20200101T000000
END:STANDARD
END:VTIMEZONE
BEGIN:VEVENT
DTSTART;TZID=UTC:20200906T035209
DTEND;TZID=UTC:20201008T170000
DTSTAMP:20260421T113638
CREATED:20190807T121922Z
LAST-MODIFIED:20190807T121922Z
UID:211-1599364329-1602176400@edvs-lathen.de
SUMMARY:Meet Hult in Monterrey
DESCRIPTION:You are invited to meet a Director of Enrollment for Latin America for a personal consultation. \nThis consultation is a key development step in the application process. We will take the time to discuss important elements that include:
URL:https://edvs-lathen.de/event/meet-hult-in-monterrey/
LOCATION:Erna de Vries Tag 2021
ATTACH;FMTTYPE=image/jpeg:https://edvs-lathen.de/wp-content/uploads/2017/07/Untitled-1.jpg
END:VEVENT
END:VCALENDAR